BEGIN:VCALENDAR
VERSION:2.0
PRODID:-//4 Dogs Brewing Co. &amp; Pub - ECPv6.15.15//NONSGML v1.0//EN
CALSCALE:GREGORIAN
METHOD:PUBLISH
X-ORIGINAL-URL:https://4dogsbrew.com
X-WR-CALDESC:Events for 4 Dogs Brewing Co. &amp; Pub
REFRESH-INTERVAL;VALUE=DURATION:PT1H
X-Robots-Tag:noindex
X-PUBLISHED-TTL:PT1H
BEGIN:VTIMEZONE
TZID:America/New_York
BEGIN:DAYLIGHT
TZOFFSETFROM:-0500
TZOFFSETTO:-0400
TZNAME:EDT
DTSTART:20230312T070000
END:DAYLIGHT
BEGIN:STANDARD
TZOFFSETFROM:-0400
TZOFFSETTO:-0500
TZNAME:EST
DTSTART:20231105T060000
END:STANDARD
BEGIN:DAYLIGHT
TZOFFSETFROM:-0500
TZOFFSETTO:-0400
TZNAME:EDT
DTSTART:20240310T070000
END:DAYLIGHT
BEGIN:STANDARD
TZOFFSETFROM:-0400
TZOFFSETTO:-0500
TZNAME:EST
DTSTART:20241103T060000
END:STANDARD
BEGIN:DAYLIGHT
TZOFFSETFROM:-0500
TZOFFSETTO:-0400
TZNAME:EDT
DTSTART:20250309T070000
END:DAYLIGHT
BEGIN:STANDARD
TZOFFSETFROM:-0400
TZOFFSETTO:-0500
TZNAME:EST
DTSTART:20251102T060000
END:STANDARD
END:VTIMEZONE
BEGIN:VEVENT
DTSTART;TZID=America/New_York:20240119T180000
DTEND;TZID=America/New_York:20240119T210000
DTSTAMP:20260424T111554
CREATED:20231227T155758Z
LAST-MODIFIED:20240120T015653Z
UID:10000015-1705687200-1705698000@4dogsbrew.com
SUMMARY:Cup of Joe Live
DESCRIPTION:
URL:https://4dogsbrew.com/event/cup-of-joe-live/
LOCATION:219 Marlboro Ave #52b\, Easton\, MD\, United States
GEO:38.800714;-76.051486
END:VEVENT
BEGIN:VEVENT
DTSTART;TZID=America/New_York:20240114T190000
DTEND;TZID=America/New_York:20240114T203000
DTSTAMP:20260424T111554
CREATED:20231227T155755Z
LAST-MODIFIED:20240115T002629Z
UID:10000012-1705258800-1705264200@4dogsbrew.com
SUMMARY:Comedy Show
DESCRIPTION:
URL:https://4dogsbrew.com/event/comedy-show-2/
LOCATION:219 Marlboro Ave #52b\, Easton\, MD\, United States
GEO:38.800714;-76.051486
END:VEVENT
BEGIN:VEVENT
DTSTART;TZID=America/New_York:20240112T183000
DTEND;TZID=America/New_York:20240112T213000
DTSTAMP:20260424T111554
CREATED:20231227T155754Z
LAST-MODIFIED:20240113T020642Z
UID:10000011-1705084200-1705095000@4dogsbrew.com
SUMMARY:Troll Tribe Returns
DESCRIPTION:
URL:https://4dogsbrew.com/event/troll-tribe-returns/
LOCATION:219 Marlboro Ave #52b\, Easton\, MD\, United States
GEO:38.800714;-76.051486
END:VEVENT
END:VCALENDAR