BEGIN:VCALENDAR
VERSION:2.0
PRODID:-//4 Dogs Brewing Co. &amp; Pub - ECPv6.15.15//NONSGML v1.0//EN
CALSCALE:GREGORIAN
METHOD:PUBLISH
X-WR-CALNAME:4 Dogs Brewing Co. &amp; Pub
X-ORIGINAL-URL:https://4dogsbrew.com
X-WR-CALDESC:Events for 4 Dogs Brewing Co. &amp; Pub
REFRESH-INTERVAL;VALUE=DURATION:PT1H
X-Robots-Tag:noindex
X-PUBLISHED-TTL:PT1H
BEGIN:VTIMEZONE
TZID:America/New_York
BEGIN:DAYLIGHT
TZOFFSETFROM:-0500
TZOFFSETTO:-0400
TZNAME:EDT
DTSTART:20230312T070000
END:DAYLIGHT
BEGIN:STANDARD
TZOFFSETFROM:-0400
TZOFFSETTO:-0500
TZNAME:EST
DTSTART:20231105T060000
END:STANDARD
BEGIN:DAYLIGHT
TZOFFSETFROM:-0500
TZOFFSETTO:-0400
TZNAME:EDT
DTSTART:20240310T070000
END:DAYLIGHT
BEGIN:STANDARD
TZOFFSETFROM:-0400
TZOFFSETTO:-0500
TZNAME:EST
DTSTART:20241103T060000
END:STANDARD
BEGIN:DAYLIGHT
TZOFFSETFROM:-0500
TZOFFSETTO:-0400
TZNAME:EDT
DTSTART:20250309T070000
END:DAYLIGHT
BEGIN:STANDARD
TZOFFSETFROM:-0400
TZOFFSETTO:-0500
TZNAME:EST
DTSTART:20251102T060000
END:STANDARD
END:VTIMEZONE
BEGIN:VEVENT
DTSTART;TZID=America/New_York:20240610T150000
DTEND;TZID=America/New_York:20240610T180000
DTSTAMP:20260421T174852
CREATED:20240521T163606Z
LAST-MODIFIED:20240610T210926Z
UID:10000318-1718031600-1718042400@4dogsbrew.com
SUMMARY:TIPS Training Class
DESCRIPTION:Tips Training For Bartenders\, Cashiers\,Liquor License holders\, Security\, Hostesses and Servers of Alcohol.\nJoin with Google Meet: https://meet.google.com/vrj-pmkm-tao\nLearn more about Meet at: https://support.google.com/a/users/answer/9282720
URL:https://4dogsbrew.com/event/tips-training-class/
LOCATION:219 Marlboro Ave #52b\, Easton\, MD 21601\, USA
END:VEVENT
END:VCALENDAR