BEGIN:VCALENDAR
VERSION:2.0
PRODID:-//4 Dogs Brewing Co. &amp; Pub - ECPv6.15.15//NONSGML v1.0//EN
CALSCALE:GREGORIAN
METHOD:PUBLISH
X-ORIGINAL-URL:https://4dogsbrew.com
X-WR-CALDESC:Events for 4 Dogs Brewing Co. &amp; Pub
REFRESH-INTERVAL;VALUE=DURATION:PT1H
X-Robots-Tag:noindex
X-PUBLISHED-TTL:PT1H
BEGIN:VTIMEZONE
TZID:America/New_York
BEGIN:DAYLIGHT
TZOFFSETFROM:-0500
TZOFFSETTO:-0400
TZNAME:EDT
DTSTART:20240310T070000
END:DAYLIGHT
BEGIN:STANDARD
TZOFFSETFROM:-0400
TZOFFSETTO:-0500
TZNAME:EST
DTSTART:20241103T060000
END:STANDARD
BEGIN:DAYLIGHT
TZOFFSETFROM:-0500
TZOFFSETTO:-0400
TZNAME:EDT
DTSTART:20250309T070000
END:DAYLIGHT
BEGIN:STANDARD
TZOFFSETFROM:-0400
TZOFFSETTO:-0500
TZNAME:EST
DTSTART:20251102T060000
END:STANDARD
BEGIN:DAYLIGHT
TZOFFSETFROM:-0500
TZOFFSETTO:-0400
TZNAME:EDT
DTSTART:20260308T070000
END:DAYLIGHT
BEGIN:STANDARD
TZOFFSETFROM:-0400
TZOFFSETTO:-0500
TZNAME:EST
DTSTART:20261101T060000
END:STANDARD
END:VTIMEZONE
BEGIN:VEVENT
DTSTART;TZID=America/New_York:20250605T190000
DTEND;TZID=America/New_York:20250605T210000
DTSTAMP:20260421T220336
CREATED:20250421T155027Z
LAST-MODIFIED:20250606T000437Z
UID:10001129-1749150000-1749157200@4dogsbrew.com
SUMMARY:Team Feud
DESCRIPTION:
URL:https://4dogsbrew.com/event/team-feud-26/
END:VEVENT
BEGIN:VEVENT
DTSTART;TZID=America/New_York:20250605T211500
DTEND;TZID=America/New_York:20250606T000000
DTSTAMP:20260421T220336
CREATED:20250421T155028Z
LAST-MODIFIED:20250606T033350Z
UID:10001130-1749158100-1749168000@4dogsbrew.com
SUMMARY:Karaoke With  Chucky Love
DESCRIPTION:
URL:https://4dogsbrew.com/event/karaoke-with-chucky-love-28/
END:VEVENT
BEGIN:VEVENT
DTSTART;TZID=America/New_York:20250606T190000
DTEND;TZID=America/New_York:20250606T220000
DTSTAMP:20260421T220336
CREATED:20250421T155028Z
LAST-MODIFIED:20250607T013254Z
UID:10001131-1749236400-1749247200@4dogsbrew.com
SUMMARY:Down the Road
DESCRIPTION:
URL:https://4dogsbrew.com/event/down-the-road-2/
END:VEVENT
BEGIN:VEVENT
DTSTART;TZID=America/New_York:20250612T190000
DTEND;TZID=America/New_York:20250612T210000
DTSTAMP:20260421T220336
CREATED:20250421T155028Z
LAST-MODIFIED:20250613T004705Z
UID:10001132-1749754800-1749762000@4dogsbrew.com
SUMMARY:Team Feud
DESCRIPTION:
URL:https://4dogsbrew.com/event/team-feud-27/
END:VEVENT
BEGIN:VEVENT
DTSTART;TZID=America/New_York:20250612T211500
DTEND;TZID=America/New_York:20250613T000000
DTSTAMP:20260421T220336
CREATED:20250421T155028Z
LAST-MODIFIED:20250613T031806Z
UID:10001133-1749762900-1749772800@4dogsbrew.com
SUMMARY:Karaoke With  Chucky Love
DESCRIPTION:
URL:https://4dogsbrew.com/event/karaoke-with-chucky-love-29/
END:VEVENT
BEGIN:VEVENT
DTSTART;TZID=America/New_York:20250614T190000
DTEND;TZID=America/New_York:20250614T220000
DTSTAMP:20260421T220336
CREATED:20250421T155028Z
LAST-MODIFIED:20250615T014722Z
UID:10001134-1749927600-1749938400@4dogsbrew.com
SUMMARY:Dave Hawkins
DESCRIPTION:
URL:https://4dogsbrew.com/event/dave-hawkins-3/
END:VEVENT
BEGIN:VEVENT
DTSTART;TZID=America/New_York:20250619T190000
DTEND;TZID=America/New_York:20250619T210000
DTSTAMP:20260421T220336
CREATED:20250421T155029Z
LAST-MODIFIED:20250620T004603Z
UID:10001135-1750359600-1750366800@4dogsbrew.com
SUMMARY:Team Feud
DESCRIPTION:
URL:https://4dogsbrew.com/event/team-feud-28/
END:VEVENT
BEGIN:VEVENT
DTSTART;TZID=America/New_York:20250619T211500
DTEND;TZID=America/New_York:20250620T000000
DTSTAMP:20260421T220336
CREATED:20250421T155029Z
LAST-MODIFIED:20250620T034605Z
UID:10001136-1750367700-1750377600@4dogsbrew.com
SUMMARY:Karaoke With  Chucky Love
DESCRIPTION:
URL:https://4dogsbrew.com/event/karaoke-with-chucky-love-30/
END:VEVENT
BEGIN:VEVENT
DTSTART;TZID=America/New_York:20250626T190000
DTEND;TZID=America/New_York:20250626T210000
DTSTAMP:20260421T220336
CREATED:20250421T155029Z
LAST-MODIFIED:20250627T000327Z
UID:10001137-1750964400-1750971600@4dogsbrew.com
SUMMARY:Team Feud
DESCRIPTION:
URL:https://4dogsbrew.com/event/team-feud-29/
END:VEVENT
BEGIN:VEVENT
DTSTART;TZID=America/New_York:20250626T211500
DTEND;TZID=America/New_York:20250627T000000
DTSTAMP:20260421T220336
CREATED:20250421T155029Z
LAST-MODIFIED:20250627T033116Z
UID:10001138-1750972500-1750982400@4dogsbrew.com
SUMMARY:Karaoke With  Chucky Love
DESCRIPTION:
URL:https://4dogsbrew.com/event/karaoke-with-chucky-love-31/
END:VEVENT
BEGIN:VEVENT
DTSTART;TZID=America/New_York:20250627T190000
DTEND;TZID=America/New_York:20250627T220000
DTSTAMP:20260421T220336
CREATED:20250421T155029Z
LAST-MODIFIED:20250628T004943Z
UID:10001139-1751050800-1751061600@4dogsbrew.com
SUMMARY:Reagan Kent
DESCRIPTION:
URL:https://4dogsbrew.com/event/reagan-kent-2/
END:VEVENT
END:VCALENDAR