BEGIN:VCALENDAR
VERSION:2.0
PRODID:-//4 Dogs Brewing Co. &amp; Pub - ECPv6.15.15//NONSGML v1.0//EN
CALSCALE:GREGORIAN
METHOD:PUBLISH
X-ORIGINAL-URL:https://4dogsbrew.com
X-WR-CALDESC:Events for 4 Dogs Brewing Co. &amp; Pub
REFRESH-INTERVAL;VALUE=DURATION:PT1H
X-Robots-Tag:noindex
X-PUBLISHED-TTL:PT1H
BEGIN:VTIMEZONE
TZID:America/New_York
BEGIN:DAYLIGHT
TZOFFSETFROM:-0500
TZOFFSETTO:-0400
TZNAME:EDT
DTSTART:20240310T070000
END:DAYLIGHT
BEGIN:STANDARD
TZOFFSETFROM:-0400
TZOFFSETTO:-0500
TZNAME:EST
DTSTART:20241103T060000
END:STANDARD
BEGIN:DAYLIGHT
TZOFFSETFROM:-0500
TZOFFSETTO:-0400
TZNAME:EDT
DTSTART:20250309T070000
END:DAYLIGHT
BEGIN:STANDARD
TZOFFSETFROM:-0400
TZOFFSETTO:-0500
TZNAME:EST
DTSTART:20251102T060000
END:STANDARD
BEGIN:DAYLIGHT
TZOFFSETFROM:-0500
TZOFFSETTO:-0400
TZNAME:EDT
DTSTART:20260308T070000
END:DAYLIGHT
BEGIN:STANDARD
TZOFFSETFROM:-0400
TZOFFSETTO:-0500
TZNAME:EST
DTSTART:20261101T060000
END:STANDARD
END:VTIMEZONE
BEGIN:VEVENT
DTSTART;TZID=America/New_York:20250403T190000
DTEND;TZID=America/New_York:20250403T210000
DTSTAMP:20260419T151418
CREATED:20241211T162244Z
LAST-MODIFIED:20250403T235124Z
UID:10000760-1743706800-1743714000@4dogsbrew.com
SUMMARY:Team Feud
DESCRIPTION:
URL:https://4dogsbrew.com/event/team-feud-17/
END:VEVENT
BEGIN:VEVENT
DTSTART;TZID=America/New_York:20250403T211500
DTEND;TZID=America/New_York:20250404T000000
DTSTAMP:20260419T151418
CREATED:20241211T162245Z
LAST-MODIFIED:20250404T031631Z
UID:10000761-1743714900-1743724800@4dogsbrew.com
SUMMARY:Karaoke With  Chucky Love
DESCRIPTION:
URL:https://4dogsbrew.com/event/karaoke-with-chucky-love-20/
END:VEVENT
BEGIN:VEVENT
DTSTART;TZID=America/New_York:20250404T190000
DTEND;TZID=America/New_York:20250404T220000
DTSTAMP:20260419T151418
CREATED:20250218T151736Z
LAST-MODIFIED:20250405T014738Z
UID:10001078-1743793200-1743804000@4dogsbrew.com
SUMMARY:Reagan Kent
DESCRIPTION:
URL:https://4dogsbrew.com/event/reagan-kent/
END:VEVENT
BEGIN:VEVENT
DTSTART;TZID=America/New_York:20250410T190000
DTEND;TZID=America/New_York:20250410T210000
DTSTAMP:20260419T151418
CREATED:20241211T162245Z
LAST-MODIFIED:20250410T234922Z
UID:10000763-1744311600-1744318800@4dogsbrew.com
SUMMARY:Team Feud
DESCRIPTION:
URL:https://4dogsbrew.com/event/team-feud-18/
END:VEVENT
BEGIN:VEVENT
DTSTART;TZID=America/New_York:20250410T211500
DTEND;TZID=America/New_York:20250411T000000
DTSTAMP:20260419T151418
CREATED:20241211T162245Z
LAST-MODIFIED:20250411T032033Z
UID:10000764-1744319700-1744329600@4dogsbrew.com
SUMMARY:Karaoke With  Chucky Love
DESCRIPTION:
URL:https://4dogsbrew.com/event/karaoke-with-chucky-love-21/
END:VEVENT
BEGIN:VEVENT
DTSTART;TZID=America/New_York:20250417T190000
DTEND;TZID=America/New_York:20250417T210000
DTSTAMP:20260419T151418
CREATED:20241211T162245Z
LAST-MODIFIED:20250418T000316Z
UID:10000766-1744916400-1744923600@4dogsbrew.com
SUMMARY:Team Feud
DESCRIPTION:
URL:https://4dogsbrew.com/event/team-feud-19/
END:VEVENT
BEGIN:VEVENT
DTSTART;TZID=America/New_York:20250417T211500
DTEND;TZID=America/New_York:20250418T000000
DTSTAMP:20260419T151418
CREATED:20241211T162245Z
LAST-MODIFIED:20250418T033357Z
UID:10000767-1744924500-1744934400@4dogsbrew.com
SUMMARY:Karaoke With  Chucky Love
DESCRIPTION:
URL:https://4dogsbrew.com/event/karaoke-with-chucky-love-22/
END:VEVENT
BEGIN:VEVENT
DTSTART;TZID=America/New_York:20250418T190000
DTEND;TZID=America/New_York:20250418T220000
DTSTAMP:20260419T151418
CREATED:20250218T151737Z
LAST-MODIFIED:20250419T013227Z
UID:10001079-1745002800-1745013600@4dogsbrew.com
SUMMARY:Bobby Reed
DESCRIPTION:
URL:https://4dogsbrew.com/event/bobby-reed-11/
END:VEVENT
BEGIN:VEVENT
DTSTART;TZID=America/New_York:20250424T190000
DTEND;TZID=America/New_York:20250424T210000
DTSTAMP:20260419T151418
CREATED:20250421T155024Z
LAST-MODIFIED:20250425T002101Z
UID:10001112-1745521200-1745528400@4dogsbrew.com
SUMMARY:Team Feud
DESCRIPTION:
URL:https://4dogsbrew.com/event/team-feud-20/
END:VEVENT
BEGIN:VEVENT
DTSTART;TZID=America/New_York:20250424T211500
DTEND;TZID=America/New_York:20250425T000000
DTSTAMP:20260419T151418
CREATED:20250421T155025Z
LAST-MODIFIED:20250425T034751Z
UID:10001113-1745529300-1745539200@4dogsbrew.com
SUMMARY:Karaoke With  Chucky Love
DESCRIPTION:
URL:https://4dogsbrew.com/event/karaoke-with-chucky-love-8/
END:VEVENT
BEGIN:VEVENT
DTSTART;TZID=America/New_York:20250425T190000
DTEND;TZID=America/New_York:20250425T220000
DTSTAMP:20260419T151418
CREATED:20250421T155025Z
LAST-MODIFIED:20250426T013531Z
UID:10001114-1745607600-1745618400@4dogsbrew.com
SUMMARY:Solitude Road Band
DESCRIPTION:
URL:https://4dogsbrew.com/event/solitude-road-band/
END:VEVENT
BEGIN:VEVENT
DTSTART;TZID=America/New_York:20250426T190000
DTEND;TZID=America/New_York:20250426T220000
DTSTAMP:20260419T151418
CREATED:20250421T155025Z
LAST-MODIFIED:20250427T013119Z
UID:10001115-1745694000-1745704800@4dogsbrew.com
SUMMARY:Fuzzbox Pirahna
DESCRIPTION:
URL:https://4dogsbrew.com/event/fuzzbox-pirahna-2/
END:VEVENT
END:VCALENDAR