BEGIN:VCALENDAR
VERSION:2.0
PRODID:-//4 Dogs Brewing Co. &amp; Pub - ECPv6.15.15//NONSGML v1.0//EN
CALSCALE:GREGORIAN
METHOD:PUBLISH
X-ORIGINAL-URL:https://4dogsbrew.com
X-WR-CALDESC:Events for 4 Dogs Brewing Co. &amp; Pub
REFRESH-INTERVAL;VALUE=DURATION:PT1H
X-Robots-Tag:noindex
X-PUBLISHED-TTL:PT1H
BEGIN:VTIMEZONE
TZID:America/New_York
BEGIN:DAYLIGHT
TZOFFSETFROM:-0500
TZOFFSETTO:-0400
TZNAME:EDT
DTSTART:20240310T070000
END:DAYLIGHT
BEGIN:STANDARD
TZOFFSETFROM:-0400
TZOFFSETTO:-0500
TZNAME:EST
DTSTART:20241103T060000
END:STANDARD
BEGIN:DAYLIGHT
TZOFFSETFROM:-0500
TZOFFSETTO:-0400
TZNAME:EDT
DTSTART:20250309T070000
END:DAYLIGHT
BEGIN:STANDARD
TZOFFSETFROM:-0400
TZOFFSETTO:-0500
TZNAME:EST
DTSTART:20251102T060000
END:STANDARD
BEGIN:DAYLIGHT
TZOFFSETFROM:-0500
TZOFFSETTO:-0400
TZNAME:EDT
DTSTART:20260308T070000
END:DAYLIGHT
BEGIN:STANDARD
TZOFFSETFROM:-0400
TZOFFSETTO:-0500
TZNAME:EST
DTSTART:20261101T060000
END:STANDARD
END:VTIMEZONE
BEGIN:VEVENT
DTSTART;TZID=America/New_York:20250228T190000
DTEND;TZID=America/New_York:20250228T220000
DTSTAMP:20260419T134540
CREATED:20241227T210210Z
LAST-MODIFIED:20250301T020442Z
UID:10001049-1740769200-1740780000@4dogsbrew.com
SUMMARY:Bobby Reed
DESCRIPTION:
URL:https://4dogsbrew.com/event/bobby-reed-9/
END:VEVENT
BEGIN:VEVENT
DTSTART;TZID=America/New_York:20250301T190000
DTEND;TZID=America/New_York:20250301T220000
DTSTAMP:20260419T134540
CREATED:20250125T184629Z
LAST-MODIFIED:20250302T014720Z
UID:10001063-1740855600-1740866400@4dogsbrew.com
SUMMARY:Joe Bryan
DESCRIPTION:
URL:https://4dogsbrew.com/event/joe-bryan/
END:VEVENT
BEGIN:VEVENT
DTSTART;TZID=America/New_York:20250306T190000
DTEND;TZID=America/New_York:20250306T210000
DTSTAMP:20260419T134540
CREATED:20241211T162243Z
LAST-MODIFIED:20250307T011833Z
UID:10000748-1741287600-1741294800@4dogsbrew.com
SUMMARY:Team Feud
DESCRIPTION:
URL:https://4dogsbrew.com/event/team-feud-13/
END:VEVENT
BEGIN:VEVENT
DTSTART;TZID=America/New_York:20250306T211500
DTEND;TZID=America/New_York:20250307T000000
DTSTAMP:20260419T134540
CREATED:20241211T162243Z
LAST-MODIFIED:20250307T044937Z
UID:10000749-1741295700-1741305600@4dogsbrew.com
SUMMARY:Karaoke With  Chucky Love
DESCRIPTION:
URL:https://4dogsbrew.com/event/karaoke-with-chucky-love-16/
END:VEVENT
BEGIN:VEVENT
DTSTART;TZID=America/New_York:20250308T190000
DTEND;TZID=America/New_York:20250308T220000
DTSTAMP:20260419T134540
CREATED:20250125T184629Z
LAST-MODIFIED:20250309T021725Z
UID:10001064-1741460400-1741471200@4dogsbrew.com
SUMMARY:Down The Road
DESCRIPTION:
URL:https://4dogsbrew.com/event/down-the-road/
END:VEVENT
BEGIN:VEVENT
DTSTART;TZID=America/New_York:20250313T190000
DTEND;TZID=America/New_York:20250313T210000
DTSTAMP:20260419T134540
CREATED:20241211T162243Z
LAST-MODIFIED:20250314T000426Z
UID:10000751-1741892400-1741899600@4dogsbrew.com
SUMMARY:Team Feud
DESCRIPTION:
URL:https://4dogsbrew.com/event/team-feud-14/
END:VEVENT
BEGIN:VEVENT
DTSTART;TZID=America/New_York:20250313T211500
DTEND;TZID=America/New_York:20250314T000000
DTSTAMP:20260419T134540
CREATED:20241211T162243Z
LAST-MODIFIED:20250314T033538Z
UID:10000752-1741900500-1741910400@4dogsbrew.com
SUMMARY:Karaoke With  Chucky Love
DESCRIPTION:
URL:https://4dogsbrew.com/event/karaoke-with-chucky-love-17/
END:VEVENT
BEGIN:VEVENT
DTSTART;TZID=America/New_York:20250320T190000
DTEND;TZID=America/New_York:20250320T210000
DTSTAMP:20260419T134540
CREATED:20241211T162244Z
LAST-MODIFIED:20250321T004752Z
UID:10000754-1742497200-1742504400@4dogsbrew.com
SUMMARY:Team Feud
DESCRIPTION:
URL:https://4dogsbrew.com/event/team-feud-15/
END:VEVENT
BEGIN:VEVENT
DTSTART;TZID=America/New_York:20250320T211500
DTEND;TZID=America/New_York:20250321T000000
DTSTAMP:20260419T134540
CREATED:20241211T162244Z
LAST-MODIFIED:20250321T030314Z
UID:10000755-1742505300-1742515200@4dogsbrew.com
SUMMARY:Karaoke With  Chucky Love
DESCRIPTION:
URL:https://4dogsbrew.com/event/karaoke-with-chucky-love-18/
END:VEVENT
BEGIN:VEVENT
DTSTART;TZID=America/New_York:20250321T190000
DTEND;TZID=America/New_York:20250321T220000
DTSTAMP:20260419T134540
CREATED:20250125T184644Z
LAST-MODIFIED:20250322T012116Z
UID:10001065-1742583600-1742594400@4dogsbrew.com
SUMMARY:Alli Pinski
DESCRIPTION:
URL:https://4dogsbrew.com/event/bobby-reed-10/
END:VEVENT
BEGIN:VEVENT
DTSTART;TZID=America/New_York:20250327T190000
DTEND;TZID=America/New_York:20250327T210000
DTSTAMP:20260419T134540
CREATED:20241211T162244Z
LAST-MODIFIED:20250328T003308Z
UID:10000757-1743102000-1743109200@4dogsbrew.com
SUMMARY:Team Feud
DESCRIPTION:
URL:https://4dogsbrew.com/event/team-feud-16/
END:VEVENT
BEGIN:VEVENT
DTSTART;TZID=America/New_York:20250327T211500
DTEND;TZID=America/New_York:20250328T000000
DTSTAMP:20260419T134540
CREATED:20241211T162244Z
LAST-MODIFIED:20250328T030612Z
UID:10000758-1743110100-1743120000@4dogsbrew.com
SUMMARY:Karaoke With  Chucky Love
DESCRIPTION:
URL:https://4dogsbrew.com/event/karaoke-with-chucky-love-19/
END:VEVENT
BEGIN:VEVENT
DTSTART;VALUE=DATE:20250329
DTEND;VALUE=DATE:20250330
DTSTAMP:20260419T134540
CREATED:20250226T144624Z
LAST-MODIFIED:20250329T231843Z
UID:10001088-1743206400-1743292799@4dogsbrew.com
SUMMARY:John B day Party
DESCRIPTION:
URL:https://4dogsbrew.com/event/john-b-day-party/
END:VEVENT
BEGIN:VEVENT
DTSTART;TZID=America/New_York:20250329T190000
DTEND;TZID=America/New_York:20250329T220000
DTSTAMP:20260419T134540
CREATED:20250125T184644Z
LAST-MODIFIED:20250330T013239Z
UID:10001066-1743274800-1743285600@4dogsbrew.com
SUMMARY:Fuzzbox Pirahna
DESCRIPTION:
URL:https://4dogsbrew.com/event/fuzzbox-pirahna/
END:VEVENT
END:VCALENDAR