BEGIN:VCALENDAR
VERSION:2.0
PRODID:-//4 Dogs Brewing Co. &amp; Pub - ECPv6.15.15//NONSGML v1.0//EN
CALSCALE:GREGORIAN
METHOD:PUBLISH
X-WR-CALNAME:4 Dogs Brewing Co. &amp; Pub
X-ORIGINAL-URL:https://4dogsbrew.com
X-WR-CALDESC:Events for 4 Dogs Brewing Co. &amp; Pub
REFRESH-INTERVAL;VALUE=DURATION:PT1H
X-Robots-Tag:noindex
X-PUBLISHED-TTL:PT1H
BEGIN:VTIMEZONE
TZID:America/New_York
BEGIN:DAYLIGHT
TZOFFSETFROM:-0500
TZOFFSETTO:-0400
TZNAME:EDT
DTSTART:20240310T070000
END:DAYLIGHT
BEGIN:STANDARD
TZOFFSETFROM:-0400
TZOFFSETTO:-0500
TZNAME:EST
DTSTART:20241103T060000
END:STANDARD
BEGIN:DAYLIGHT
TZOFFSETFROM:-0500
TZOFFSETTO:-0400
TZNAME:EDT
DTSTART:20250309T070000
END:DAYLIGHT
BEGIN:STANDARD
TZOFFSETFROM:-0400
TZOFFSETTO:-0500
TZNAME:EST
DTSTART:20251102T060000
END:STANDARD
BEGIN:DAYLIGHT
TZOFFSETFROM:-0500
TZOFFSETTO:-0400
TZNAME:EDT
DTSTART:20260308T070000
END:DAYLIGHT
BEGIN:STANDARD
TZOFFSETFROM:-0400
TZOFFSETTO:-0500
TZNAME:EST
DTSTART:20261101T060000
END:STANDARD
END:VTIMEZONE
BEGIN:VEVENT
DTSTART;TZID=America/New_York:20250227T163000
DTEND;TZID=America/New_York:20250227T183000
DTSTAMP:20260419T165301
CREATED:20250206T174605Z
LAST-MODIFIED:20250227T231826Z
UID:10001075-1740673800-1740681000@4dogsbrew.com
SUMMARY:Chamber After Hours Mixer
DESCRIPTION:
URL:https://4dogsbrew.com/event/chamber-after-hours-mixer/
END:VEVENT
BEGIN:VEVENT
DTSTART;TZID=America/New_York:20250227T190000
DTEND;TZID=America/New_York:20250227T210000
DTSTAMP:20260419T165301
CREATED:20241211T162242Z
LAST-MODIFIED:20250228T014906Z
UID:10000745-1740682800-1740690000@4dogsbrew.com
SUMMARY:Team Feud
DESCRIPTION:
URL:https://4dogsbrew.com/event/team-feud-12/
END:VEVENT
BEGIN:VEVENT
DTSTART;TZID=America/New_York:20250227T211500
DTEND;TZID=America/New_York:20250228T000000
DTSTAMP:20260419T165301
CREATED:20241211T162243Z
LAST-MODIFIED:20250228T040448Z
UID:10000746-1740690900-1740700800@4dogsbrew.com
SUMMARY:Karaoke With  Chucky Love
DESCRIPTION:
URL:https://4dogsbrew.com/event/karaoke-with-chucky-love-15/
END:VEVENT
END:VCALENDAR